BEGIN:VCALENDAR
VERSION:2.0
PRODID:-//Southern California Lure Coursing - ECPv4.4.1.1//NONSGML v1.0//EN
CALSCALE:GREGORIAN
METHOD:PUBLISH
X-WR-CALNAME:Southern California Lure Coursing
X-ORIGINAL-URL:https://socalcoursing.org
X-WR-CALDESC:Events for Southern California Lure Coursing
BEGIN:VEVENT
DTSTART;VALUE=DATE:20250410
DTEND;VALUE=DATE:20250410
DTSTAMP:20260419T125537
CREATED:20250227T193326Z
LAST-MODIFIED:20250227T193326Z
UID:3592-1744243200-1744329599@socalcoursing.org
SUMMARY:OCRRC Lure Coursing Hound Clasic
DESCRIPTION:Click Here For Premium 
URL:https://socalcoursing.org/event/ocrrc-lure-coursing-hound-clasic/
LOCATION:17505 Euclid Street\, Chino\, CA\, 91708\, United States
CATEGORIES:AKC Lure Trial,OCRRC
END:VEVENT
END:VCALENDAR