BEGIN:VCALENDAR
VERSION:2.0
PRODID:-//Southern California Lure Coursing - ECPv4.4.1.1//NONSGML v1.0//EN
CALSCALE:GREGORIAN
METHOD:PUBLISH
X-WR-CALNAME:Southern California Lure Coursing
X-ORIGINAL-URL:https://socalcoursing.org
X-WR-CALDESC:Events for Southern California Lure Coursing
BEGIN:VEVENT
DTSTART;VALUE=DATE:20260214
DTEND;VALUE=DATE:20260214
DTSTAMP:20260419T124649
CREATED:20260131T213737Z
LAST-MODIFIED:20260131T213737Z
UID:3720-1771027200-1771113599@socalcoursing.org
SUMMARY:OCRRC AKC Sighthound
DESCRIPTION:Click Here For Premium
URL:https://socalcoursing.org/event/ocrrc-akc-sighthound/
LOCATION:17505 Euclid Street\, Chino\, CA\, 91708\, United States
CATEGORIES:AKC JC/QC Lure Test,AKC Lure Trial,OCRRC
END:VEVENT
END:VCALENDAR