BEGIN:VCALENDAR
VERSION:2.0
PRODID:-//Southern California Lure Coursing - ECPv4.4.1.1//NONSGML v1.0//EN
CALSCALE:GREGORIAN
METHOD:PUBLISH
X-WR-CALNAME:Southern California Lure Coursing
X-ORIGINAL-URL:https://socalcoursing.org
X-WR-CALDESC:Events for Southern California Lure Coursing
BEGIN:VEVENT
DTSTART;VALUE=DATE:20240303
DTEND;VALUE=DATE:20240303
DTSTAMP:20260419T125655
CREATED:20240131T140621Z
LAST-MODIFIED:20240131T140621Z
UID:3502-1709424000-1709510399@socalcoursing.org
SUMMARY:OCRRC AKC FAST CAT
DESCRIPTION:Click here for Premium List
URL:https://socalcoursing.org/event/ocrrc-akc-fast-cat-2/
LOCATION:10102 BELLFLOWER AVE\, CHERRY VALLEY\, 92223\, United States
CATEGORIES:AKC Fast CAT,OCRRC
END:VEVENT
END:VCALENDAR