BEGIN:VCALENDAR
VERSION:2.0
PRODID:-//Southern California Lure Coursing - ECPv4.4.1.1//NONSGML v1.0//EN
CALSCALE:GREGORIAN
METHOD:PUBLISH
X-WR-CALNAME:Southern California Lure Coursing
X-ORIGINAL-URL:https://socalcoursing.org
X-WR-CALDESC:Events for Southern California Lure Coursing
BEGIN:VEVENT
DTSTART;VALUE=DATE:20240114
DTEND;VALUE=DATE:20240114
DTSTAMP:20260420T082230
CREATED:20231230T005710Z
LAST-MODIFIED:20231230T005710Z
UID:3479-1705190400-1705276799@socalcoursing.org
SUMMARY:CCA ASFA Specialty Lure Trial (Silken Windhound) & LCI
DESCRIPTION:Click Here For Premium List
URL:https://socalcoursing.org/event/cca-asfa-specialty-lure-trial-silken-windhound-lci-70/
CATEGORIES:ASFA LCI,ASFA Lure Trial
END:VEVENT
END:VCALENDAR