BEGIN:VCALENDAR
VERSION:2.0
PRODID:-//Southern California Lure Coursing - ECPv4.4.1.1//NONSGML v1.0//EN
CALSCALE:GREGORIAN
METHOD:PUBLISH
X-WR-CALNAME:Southern California Lure Coursing
X-ORIGINAL-URL:https://socalcoursing.org
X-WR-CALDESC:Events for Southern California Lure Coursing
BEGIN:VEVENT
DTSTART;VALUE=DATE:20190113
DTEND;VALUE=DATE:20190113
DTSTAMP:20260419T143956
CREATED:20181222T003502Z
LAST-MODIFIED:20181222T003502Z
UID:2296-1547337600-1547423999@socalcoursing.org
SUMMARY:CCA AKC Lure Trial (Sighthound)
DESCRIPTION:CLICK HERE FOR PREMIUM LIST
URL:https://socalcoursing.org/event/cca-akc-lure-trial-sighthound-2/
LOCATION:17505 Euclid Street\, Chino\, CA\, 91708\, United States
CATEGORIES:AKC JC/QC Lure Test,AKC Lure Trial,CCA
END:VEVENT
END:VCALENDAR