BEGIN:VCALENDAR
VERSION:2.0
PRODID:-//Southern California Lure Coursing - ECPv4.4.1.1//NONSGML v1.0//EN
CALSCALE:GREGORIAN
METHOD:PUBLISH
X-WR-CALNAME:Southern California Lure Coursing
X-ORIGINAL-URL:https://socalcoursing.org
X-WR-CALDESC:Events for Southern California Lure Coursing
BEGIN:VEVENT
DTSTART;VALUE=DATE:20230325
DTEND;VALUE=DATE:20230325
DTSTAMP:20260419T154007
CREATED:20230303T014601Z
LAST-MODIFIED:20230319T155538Z
UID:3344-1679702400-1679788799@socalcoursing.org
SUMMARY:CCA AKC Lure Test/Trial **Canceled Due To Flooding**
DESCRIPTION:The year of the bunny has not been very cooperative so far!\nWe just learned that Prado is flooded.  We are expecting more than an inch and a half of additional rain Monday through Wednesday next week.  So unfortunately\, we will not have a field for our trial next weekend.  We are very disappointed to have to cancel but this is completely beyond our control.  We hope to have a field available to put on a trial April 29-30.  If we can confirm that there is a field\, we will be back in touch to announce the new trial and get the premium list out.\nIf you have already entered and paid for the March trial\, you can request a refund or you can hold off until we know about the April dates.\nSorry for this bad news!
URL:https://socalcoursing.org/event/cca-akc-lure-testtrial-16/
LOCATION:17505 Euclid Street\, Chino\, CA\, 91708\, United States
CATEGORIES:AKC JC/QC Lure Test,AKC Lure Trial,CCA
END:VEVENT
END:VCALENDAR