BEGIN:VCALENDAR
VERSION:2.0
PRODID:-//Southern California Lure Coursing - ECPv4.4.1.1//NONSGML v1.0//EN
CALSCALE:GREGORIAN
METHOD:PUBLISH
X-WR-CALNAME:Southern California Lure Coursing
X-ORIGINAL-URL:http://socalcoursing.org
X-WR-CALDESC:Events for Southern California Lure Coursing
BEGIN:VEVENT
DTSTART;VALUE=DATE:20230413
DTEND;VALUE=DATE:20230413
DTSTAMP:20260421T121059
CREATED:20230331T003430Z
LAST-MODIFIED:20230331T003430Z
UID:3367-1681344000-1681430399@socalcoursing.org
SUMMARY:Western Hound Specialty Coursing
DESCRIPTION:Greyhound Coursing Premium\n\nWhippet Coursing Premium\n\nOCRRC Coursing Premium\n\nPHCA Coursing_Premium
URL:http://socalcoursing.org/event/western-hound-specialty-coursing/
LOCATION:CA\, United States
CATEGORIES:AKC Lure Trial,OCRRC,PHCA,SCWA,Special Event
END:VEVENT
END:VCALENDAR