BEGIN:VCALENDAR
VERSION:2.0
PRODID:-//Southern California Lure Coursing - ECPv4.4.1.1//NONSGML v1.0//EN
CALSCALE:GREGORIAN
METHOD:PUBLISH
X-WR-CALNAME:Southern California Lure Coursing
X-ORIGINAL-URL:http://socalcoursing.org
X-WR-CALDESC:Events for Southern California Lure Coursing
BEGIN:VEVENT
DTSTART;VALUE=DATE:20221124
DTEND;VALUE=DATE:20221127
DTSTAMP:20260423T111850
CREATED:20221028T130657Z
LAST-MODIFIED:20221028T130657Z
UID:3281-1669248000-1669593599@socalcoursing.org
SUMMARY:Update re Coursing Schedule:  Hi Everyone.  Our next event is December 18-19 at Prado.  Although we have offers of help for important positions\, we lack lure ops and the requisite help needed to safely set the field and run the equipment for a November trial.  No Thanksgiving trial next month\, but we hope to see you all in December.
DESCRIPTION:
URL:http://socalcoursing.org/event/update-re-coursing-schedule-hi-everyone-our-next-event-is-december-18-19-at-prado-although-we-have-offers-of-help-for-important-positions-we-lack-lure-ops-and-the-requisite-help-needed-to-safel/
END:VEVENT
END:VCALENDAR