BEGIN:VCALENDAR
VERSION:2.0
PRODID:-//Southern California Lure Coursing - ECPv4.4.1.1//NONSGML v1.0//EN
CALSCALE:GREGORIAN
METHOD:PUBLISH
X-WR-CALNAME:Southern California Lure Coursing
X-ORIGINAL-URL:http://socalcoursing.org
X-WR-CALDESC:Events for Southern California Lure Coursing
BEGIN:VEVENT
DTSTART;VALUE=DATE:20191012
DTEND;VALUE=DATE:20191012
DTSTAMP:20260419T121900
CREATED:20190313T225118Z
LAST-MODIFIED:20190925T025413Z
UID:2426-1570838400-1570924799@socalcoursing.org
SUMMARY:SCOA AKC Lure Test/Trial (Sighthound)
DESCRIPTION:Click Here For Premium List
URL:http://socalcoursing.org/event/scoa-akc-lure-testtrial-sighthound/
LOCATION:17505 Euclid Street\, Chino\, CA\, 91708\, United States
CATEGORIES:AKC JC/QC Lure Test,AKC Lure Trial,SCOA,Sighthounds,SoCal Cup Qualifying
END:VEVENT
END:VCALENDAR