BEGIN:VCALENDAR
VERSION:2.0
PRODID:-//Southern California Lure Coursing - ECPv4.4.1.1//NONSGML v1.0//EN
CALSCALE:GREGORIAN
METHOD:PUBLISH
X-WR-CALNAME:Southern California Lure Coursing
X-ORIGINAL-URL:http://socalcoursing.org
X-WR-CALDESC:Events for Southern California Lure Coursing
BEGIN:VEVENT
DTSTART;VALUE=DATE:20191214
DTEND;VALUE=DATE:20191214
DTSTAMP:20260419T134205
CREATED:20191210T111834Z
LAST-MODIFIED:20191210T111834Z
UID:2657-1576281600-1576367999@socalcoursing.org
SUMMARY:CCA ASFA Specialty Lure Trial (Silken Windhound)
DESCRIPTION:CLICK HERE FOR PREMIUM LIST
URL:http://socalcoursing.org/event/cca-asfa-specialty-lure-trial-silken-windhound-9/
CATEGORIES:ASFA Lure Trial,CCA,SoCal Cup Qualifying
END:VEVENT
END:VCALENDAR