BEGIN:VCALENDAR
VERSION:2.0
PRODID:-//Southern California Lure Coursing - ECPv4.4.1.1//NONSGML v1.0//EN
CALSCALE:GREGORIAN
METHOD:PUBLISH
X-WR-CALNAME:Southern California Lure Coursing
X-ORIGINAL-URL:http://socalcoursing.org
X-WR-CALDESC:Events for Southern California Lure Coursing
BEGIN:VEVENT
DTSTART;VALUE=DATE:20191213
DTEND;VALUE=DATE:20191213
DTSTAMP:20260421T104943
CREATED:20191210T111728Z
LAST-MODIFIED:20191210T111728Z
UID:2655-1576195200-1576281599@socalcoursing.org
SUMMARY:CCA ASFA Specialty Lure Trial (Silken Windhound)
DESCRIPTION:CLICK HERE FOR PREMIUM LIST\n\n 
URL:http://socalcoursing.org/event/cca-asfa-specialty-lure-trial-silken-windhound-8/
LOCATION:17505 Euclid Street\, Chino\, CA\, 91708\, United States
CATEGORIES:ASFA Lure Trial,CCA,SoCal Cup Qualifying
END:VEVENT
END:VCALENDAR