BEGIN:VCALENDAR
VERSION:2.0
PRODID:-//Southern California Lure Coursing - ECPv4.4.1.1//NONSGML v1.0//EN
CALSCALE:GREGORIAN
METHOD:PUBLISH
X-WR-CALNAME:Southern California Lure Coursing
X-ORIGINAL-URL:http://socalcoursing.org
X-WR-CALDESC:Events for Southern California Lure Coursing
BEGIN:VEVENT
DTSTART;VALUE=DATE:20190511
DTEND;VALUE=DATE:20190511
DTSTAMP:20260419T162906
CREATED:20190313T213528Z
LAST-MODIFIED:20190426T170919Z
UID:2389-1557532800-1557619199@socalcoursing.org
SUMMARY:CCA ASFA Specialty Lure Trial (Silken Windhound)
DESCRIPTION:Premium list pending ASFA approval\n\n 
URL:http://socalcoursing.org/event/cca-asfa-specialty-lure-trial-silken-windhound-6/
LOCATION:888 Lantana Street\, Camarillo\, CA\, 93010\, United States
CATEGORIES:ASFA Lure Trial,CCA,Sighthounds,SoCal Cup Qualifying
END:VEVENT
END:VCALENDAR