BEGIN:VCALENDAR
VERSION:2.0
PRODID:-//Southern California Lure Coursing - ECPv4.4.1.1//NONSGML v1.0//EN
CALSCALE:GREGORIAN
METHOD:PUBLISH
X-WR-CALNAME:Southern California Lure Coursing
X-ORIGINAL-URL:http://socalcoursing.org
X-WR-CALDESC:Events for Southern California Lure Coursing
BEGIN:VEVENT
DTSTART;VALUE=DATE:20171227
DTEND;VALUE=DATE:20171227
DTSTAMP:20260419T160814
CREATED:20171227T200125Z
LAST-MODIFIED:20171227T200125Z
UID:1906-1514332800-1514419199@socalcoursing.org
SUMMARY:CCA ASFA Silken Windhound Specialty
DESCRIPTION:Click Here For Premium List
URL:http://socalcoursing.org/event/cca-asfa-silken-windhound-specialty-3/
LOCATION:17505 Euclid Street\, Chino\, CA\, 91708\, United States
CATEGORIES:ASFA Lure Trial,CCA,SoCal Cup Qualifying
END:VEVENT
END:VCALENDAR