BEGIN:VCALENDAR
VERSION:2.0
PRODID:-//Southern California Lure Coursing - ECPv4.4.1.1//NONSGML v1.0//EN
CALSCALE:GREGORIAN
METHOD:PUBLISH
X-WR-CALNAME:Southern California Lure Coursing
X-ORIGINAL-URL:http://socalcoursing.org
X-WR-CALDESC:Events for Southern California Lure Coursing
BEGIN:VEVENT
DTSTART;VALUE=DATE:20200112
DTEND;VALUE=DATE:20200112
DTSTAMP:20260419T142416
CREATED:20191224T023739Z
LAST-MODIFIED:20191224T024025Z
UID:2663-1578787200-1578873599@socalcoursing.org
SUMMARY:CCA AKC Lure Test/Trial (Sighthound)
DESCRIPTION:Click Here For Premium
URL:http://socalcoursing.org/event/cca-akc-lure-testtrial-sighthound-2/
LOCATION:17505 Euclid Street\, Chino\, CA\, 91708\, United States
CATEGORIES:AKC Lure Trial,CCA,SoCal Cup Qualifying
END:VEVENT
END:VCALENDAR