BEGIN:VCALENDAR
VERSION:2.0
PRODID:-//Southern California Lure Coursing - ECPv4.4.1.1//NONSGML v1.0//EN
CALSCALE:GREGORIAN
METHOD:PUBLISH
X-WR-CALNAME:Southern California Lure Coursing
X-ORIGINAL-URL:http://socalcoursing.org
X-WR-CALDESC:Events for Southern California Lure Coursing
BEGIN:VEVENT
DTSTART;VALUE=DATE:20191215
DTEND;VALUE=DATE:20191215
DTSTAMP:20260421T103432
CREATED:20190313T214947Z
LAST-MODIFIED:20191211T143127Z
UID:2409-1576368000-1576454399@socalcoursing.org
SUMMARY:2019 SoCal Cup Invitational Lure Trial
DESCRIPTION:CLICK HERE FOR PREMIUM LIST\n\n \n\nCLICK HERE FOR STANDINGS GOING INTO WEEKEND\n\n 
URL:http://socalcoursing.org/event/2019-socal-cup-invitational-lure-trial/
LOCATION:17505 Euclid Street\, Chino\, CA\, 91708\, United States
CATEGORIES:Invitational Lure Trial,Sighthounds
END:VEVENT
END:VCALENDAR